BEGIN:VCALENDAR
VERSION:2.0
PRODID:-//Veranstaltungen - ECPv6.15.14//NONSGML v1.0//EN
CALSCALE:GREGORIAN
METHOD:PUBLISH
X-ORIGINAL-URL:https://www.fc1920-eschelbronn.de
X-WR-CALDESC:Veranstaltungen für Veranstaltungen
REFRESH-INTERVAL;VALUE=DURATION:PT1H
X-Robots-Tag:noindex
X-PUBLISHED-TTL:PT1H
BEGIN:VTIMEZONE
TZID:Europe/Berlin
BEGIN:DAYLIGHT
TZOFFSETFROM:+0100
TZOFFSETTO:+0200
TZNAME:CEST
DTSTART:20250330T010000
END:DAYLIGHT
BEGIN:STANDARD
TZOFFSETFROM:+0200
TZOFFSETTO:+0100
TZNAME:CET
DTSTART:20251026T010000
END:STANDARD
BEGIN:DAYLIGHT
TZOFFSETFROM:+0100
TZOFFSETTO:+0200
TZNAME:CEST
DTSTART:20260329T010000
END:DAYLIGHT
BEGIN:STANDARD
TZOFFSETFROM:+0200
TZOFFSETTO:+0100
TZNAME:CET
DTSTART:20261025T010000
END:STANDARD
BEGIN:DAYLIGHT
TZOFFSETFROM:+0100
TZOFFSETTO:+0200
TZNAME:CEST
DTSTART:20270328T010000
END:DAYLIGHT
BEGIN:STANDARD
TZOFFSETFROM:+0200
TZOFFSETTO:+0100
TZNAME:CET
DTSTART:20271031T010000
END:STANDARD
END:VTIMEZONE
BEGIN:VEVENT
DTSTART;TZID=Europe/Berlin:20260501T103000
DTEND;TZID=Europe/Berlin:20260501T200000
DTSTAMP:20260420T143150
CREATED:20260414T104719Z
LAST-MODIFIED:20260414T110029Z
UID:1276-1777631400-1777665600@www.fc1920-eschelbronn.de
SUMMARY:Grillfest am 1. Mai
DESCRIPTION:
URL:https://www.fc1920-eschelbronn.de/event/grillfest-am-1-mai/
LOCATION:Clubhaus Kallenberg\, Kallenberg\, Eschelbronn\, Baden-Württemberg\, 74927\, Germany
CATEGORIES:Events
ATTACH;FMTTYPE=image/jpeg:https://www.fc1920-eschelbronn.de/wp-content/uploads/2026/04/IMG-20260407-WA0000.jpg
END:VEVENT
END:VCALENDAR